Workbook

Sheet BVI-Datenblatt
A1: 01_Zeile | B1: 02_Bezeichnung | C1: 03_Textangabe | D1: 04_prozent vom Wert der Anteilsklasse | E1: 05_Zeitwert
A2: 0 | B2: Berichtsstichtag | C2: 30.09.2026
A3: 0a | B3: Name des Fonds/der Anteilsklasse | C3: Berenberg Multi Asset Balanced R A
A4: 1 | B4: Anzahl der Anteile
A5: 2 | B5: Buchwert eines Anteils
A6: 3 | B6: Identifier (ISIN) | C6: DE000A0MWKF5
A7: 4 | B7: Name der Verwaltungsgesellschaft | C7: Universal-Investment-Gesellschaft mbH
A8: 5 | B8: Sitz der Verwaltungsgesellschaft | C8: Frankfurt am Main
A9: 6 | B9: Inländisches Investmentvermögen oder EU-Investmentvermögen | C9: 1
A10: 7 | B10: OGAW oder Spezialfonds | C10: 1
A11: 8 | B11: Börsennotierung? Ja / Nein | C11: 0
A12: 9 | B12: Rückgabefrist der Fondsanteile | C12: börsentäglich
A13: 10 | B13: Marktrisikopotential | D13: 100
A14: 11 | B14: Index / Benchmark I
A15: 12 | B15: Index / Benchmark II, ggf. andere Maßgabe | C15: ohne Benchmark | D15: 100
A16: 13 | B16: Nr. der AnlV | C16: 15
A17: 14 | B17: Ersterwerb? Ja / Nein
A18: 15 | B18: Wenn „Ja“ Erwerbsdatum
A19: 16 | B19: Ist die Anlage transparent? Ja / Nein | C19: 1
A20: 17 | B20: Bestand des Vorjahres
A21: 18 | B21: Aktueller Bestand
A22: 19 | B22: Anteilswert | E22: 78.79
A23: 19a | B23: Währung des Fonds/der Anteilscheinklasse | C23: EUR
A24: 19b | B24: Anteil der Fremdwährung (Zeitwert) | D24: 33.57
A25: 20 | B25: Anteil an notierten Aktien, Genüssen u. Nachrang-Forderungen (Nr. 9 Bst. b, 12) | D25: 46.19 | E25: =IF($C$4>0,PRODUCT($C$4,$E$22,D25/100),"")
A26: 21 | B26: Anteil an nicht notierten Aktien, Genüssen u. Nachrang-Forderungen, Beteiligungen (Nr. 9 Bst. a, 13 Bst. a) | D26: 0 | E26: =IF($C$4>0,PRODUCT($C$4,$E$22,D26/100),"")
A27: 22 | B27: Anteil an sog geschlossenen Private-Equity-Fonds (Nr. 13 Bst. b) | D27: 0 | E27: =IF($C$4>0,PRODUCT($C$4,$E$22,D27/100),"")
A28: 23 | B28: Anteil an Immobilien | D28: 0 | E28: =IF($C$4>0,PRODUCT($C$4,$E$22,D28/100),"")
A29: 24 | B29: Anteil an REITs | D29: 0 | E29: =IF($C$4>0,PRODUCT($C$4,$E$22,D29/100),"")
A30: 25 | B30: Anteil an Immobilienfonds (Nr. 14 Bst. c) | D30: 0 | E30: =IF($C$4>0,PRODUCT($C$4,$E$22,D30/100),"")
A31: 26 | B31: Anteil der Schuldverschreibungen nach Nr. 6, 7 Bst. a, b, c und 8 | D31: 32.67 | E31: =IF($C$4>0,PRODUCT($C$4,$E$22,D31/100),"")
A32: 27* | B32: davon: Anteil der Schuldverschreibungen nach Nr. 7 Bst. c | D32: 0 | E32: =IF($C$4>0,PRODUCT($C$4,$E$22,D32/100),"")
A33: 28* | B33: davon: Anteil der Schuldverschreibungen nach Nr. 8 | D33: 0.33 | E33: =IF($C$4>0,PRODUCT($C$4,$E$22,D33/100),"")
A34: 29 | B34: Anteil der (Schuldschein-)Darlehen nach Nr. 3, 4 Bst. a und Forderungen nach Nr. 1 und Nr. 11 | D34: 0 | E34: =IF($C$4>0,PRODUCT($C$4,$E$22,D34/100),"")
A35: 30 | B35: Anteil der anderen Unternehmensdarlehen nach Nr. 4 Bst. c | D35: 0 | E35: =IF($C$4>0,PRODUCT($C$4,$E$22,D35/100),"")
A36: 31 | B36: Anteil an Anlagen bei Kreditinstituten nach Nr. 18 | D36: 4.43 | E36: =IF($C$4>0,PRODUCT($C$4,$E$22,D36/100),"")
A37: 32* | B37: Bonität der Anlagen: Investment-Grade I (AAA bis A-) | D37: 18.61 | E37: =IF($C$4>0,PRODUCT($C$4,$E$22,D37/100),"")
A38: 32a* | B38: davon bezogen auf Schuldverschreibungen gem. Zeile 26 | D38: 18.61 | E38: =IF($C$4>0,PRODUCT($C$4,$E$22,D38/100),"")
A39: 33* | B39: Bonität der Anlagen: Investment-Grade II (BBB+ bis BBB-) | D39: 12.73 | E39: =IF($C$4>0,PRODUCT($C$4,$E$22,D39/100),"")
A40: 33a* | B40: davon bezogen auf Schuldverschreibungen gem. Zeile 26 | D40: 12.73 | E40: =IF($C$4>0,PRODUCT($C$4,$E$22,D40/100),"")
...

Sheet BVI-Schuldnerliste
A1: 01_Zeile | B1: 02_Bezeichnung / Name des Ausstellers (Schuldners) mit Ausnahme derjenigen i.S.v. § 2 Abs. 1 Nr. 15-17 AnIV | C1: 03_Textangabe | D1: 04_Zeitwert | E1: 05_LEI des Ausstellers (Schuldners) | F1: 06_WM-Nummer des Ausstellers (Schuldners) | G1: 07_sonstiger Identifier des Ausstellers (Schuldners) | H1: 08_Summe je Aussteller (prozent vom Wert des Fonds/Anteilsklasse) | I1: 09_öffentliche Aussteller (Schuldner) [max. 30 Prozent des Sicherungsvermögens] nach § 2 Abs. 1 Nr. 3 Bst. a, b und d AnlV: a: der Bundesrepublik Deutschland, ihren Ländern, Gemeinden und Gemeindeverbänden b: einem anderen Staat des EWR oder einem Vollmitgliedstaat der OECD d: einer internationalen Organisation, der auch der Bundesrepublik Deutschland als Vollmitglied angehört (prozent vom Wert des Fonds/Anteilsklasse) | J1: 10a_andere Aussteller (Schuldner) [max. 1 Prozent des Sicherungsvermögens] nach § 4 Abs. 4 AnlV: Anlagen nach § 2 Abs. 1 Nr. 9, 12 und 13 AnlV (Nachränge und Genussrechte, Aktien und Beteiligungen), sowie Anteile und Aktien an geschlossenen Investmentvermögen (§ 2. Abs. 1 Nr. 13 (b) und Nr. 17 AnIV) (prozent vom Wert des Fonds/der Anteilsklasse) | K1: 10b_andere Aussteller (Schuldner) [max. 5 Prozent des Sicherungsvermögens] nach § 4 Abs. 1 AnlV: alle anderen Anlagen bei diesem Schuldner (prozent vom Wert des Fonds/Anteilsklasse) | L1: 10c_andere Aussteller (Schuldner) [max. 15 Prozent des Sicherungsvermögens] nach § 4 Abs. 2 Satz 2 AnlV: a: Schuldverschreibungen mit besonderer Deckungsmasse ein und desselben Kreditinstituts mit Sitz in EWR/OECD b: Anlagen bei ein und demselben Kreditinstitut nach § 2 Abs. 1 Nr. 18 Bst. b AnlV, wenn und soweit diese Anlagen durch eine umfassende Institutsicherung oder ein Einlagensicherungssystem tatsächlich abgesichert sind c: Anlagen bei ein und demselben öffentlich-rechtlichen Kreditinstitut nach § 2 Abs. 1 Nr. 18 Bst. c AnlV d: Anlagen bei ein und der selben multilateralen Entwicklungsbank nach § 2 Abs. 1 Nr. 18 Bst. d AnlV (prozent vom Wert des Fonds/Anteilsklasse)
A2: a | B2: Berichtsstichtag | C2: ='BVI-Datenblatt'!C2 -> 30.09.2026
A3: b | B3: Name des Fonds/der Anteilsklasse | C3: ='BVI-Datenblatt'!C3 -> Berenberg Multi Asset Balanced R A
A4: c | B4: Anzahl der Anteile
A5: d | B5: Buchwert eines Anteils
A6: e | B6: Identifier (ISIN) | C6: ='BVI-Datenblatt'!C6 -> DE000A0MWKF5
A7: f | B7: Name der Verwaltungsgesellschaft | C7: ='BVI-Datenblatt'!C7 -> Universal-Investment-Gesellschaft mbH
A8: g | B8: Sitz der Verwaltungsgesellschaft | C8: ='BVI-Datenblatt'!C8 -> Frankfurt am Main
A9: h | B9: Anteilswert | D9: ='BVI-Datenblatt'!E22 -> 78.79
A10: i | B10: Währung | C10: ='BVI-Datenblatt'!C23 -> EUR
A11: 1 | B11: Invesco Physical Markets PLC | D11: =IF($C$4>0,PRODUCT($C$4,$C$5,H11/100),"") | E11: 635400BMHI1HQJRHYS23 | F11: 457739 | H11: 5.8 | I11: 0 | J11: 0 | K11: 5.8 | L11: 0
A12: 2 | B12: The Goldman Sachs Group Inc. | D12: =IF($C$4>0,PRODUCT($C$4,$C$5,H12/100),"") | E12: 784F5XWPLTWKTBV3E584 | F12: 920332 | H12: 5.38 | I12: 0 | J12: 0.33 | K12: 5.05 | L12: 0
A13: 3 | B13: BNP Paribas S.A. | D13: =IF($C$4>0,PRODUCT($C$4,$C$5,H13/100),"") | E13: R0MUWSFPU8MPRO8K5P83 | F13: 871001 | H13: 5.17 | I13: 0 | J13: 0 | K13: 4.84 | L13: 0.33
A14: 4 | B14: Alphabet Inc. | D14: =IF($C$4>0,PRODUCT($C$4,$C$5,H14/100),"") | E14: 5493006MHB84DD0ZWV18 | F14: 744225 | H14: 2.49 | I14: 0 | J14: 2.49 | K14: 0 | L14: 0
A15: 5 | B15: ASML Holding N.V. | D15: =IF($C$4>0,PRODUCT($C$4,$C$5,H15/100),"") | E15: 724500Y6DUVHQD6OXN27 | F15: 894248 | H15: 2.08 | I15: 0 | J15: 2.08 | K15: 0 | L15: 0
A16: 6 | B16: Allianz SE | D16: =IF($C$4>0,PRODUCT($C$4,$C$5,H16/100),"") | E16: 529900K9B0N5BT694847 | F16: 840400 | H16: 2.03 | I16: 0 | J16: 2.03 | K16: 0 | L16: 0
A17: 7 | B17: Raiffeisen Bank International AG | D17: =IF($C$4>0,PRODUCT($C$4,$C$5,H17/100),"") | E17: 9ZHRYM6F437SQJ6OUG95 | F17: 208403 | H17: 1.82 | I17: 0 | J17: 0 | K17: 1.34 | L17: 0.48
A18: 8 | B18: Banco Santander S.A. | D18: =IF($C$4>0,PRODUCT($C$4,$C$5,H18/100),"") | E18: 5493006QMFDDMYWIAM13 | F18: 858872 | H18: 1.77 | I18: 0 | J18: 1.3 | K18: 0 | L18: 0.47
A19: 9 | B19: HSBC Holdings PLC | D19: =IF($C$4>0,PRODUCT($C$4,$C$5,H19/100),"") | E19: MLU0ZO3ML4LN2LL2TL39 | F19: 881335 | H19: 1.59 | I19: 0 | J19: 1.59 | K19: 0 | L19: 0
A20: 10 | B20: Apple Inc. | D20: =IF($C$4>0,PRODUCT($C$4,$C$5,H20/100),"") | E20: HWUPKR0MPOU8FGXBT394 | F20: 865985 | H20: 1.45 | I20: 0 | J20: 1.45 | K20: 0 | L20: 0
A22: Die Investmentgesellschaft meldet dem VU mit vorliegendem Datenblatt die Anlagen der jeweils 10 größten Aussteller (Schuldner) jedes Fonds, in die ein Versicherungsunternehmen investiert hat (§ 4 Abs. 1 Satz 2 AnlV). Dach-Publikumsfonds und Spezialfonds, die ihrerseits in mehrere Publikumsfonds investieren, Immobilienfonds, Sonstige Sondervermögen mit Beteiligungen und Infrastrukturfonds können unberücksichtigt bleiben, wenn der Anteil ihrer Anlagen in Wertpapiere, Geldmarktinstrumente, Bankguthaben und Derivate zusammen nicht mehr als 5% des Fondsvermögens beträgt. Der Versicherer ist auf diesen Umstand im VAG-Reporting hinzuweisen. Für Immobilien, Beteiligungen und Infrastrukturanlagen erfolgt keine Zusammenführung der Streuungsquoten aus Fonds- und Direktanlage. Bei ausländischen Fonds ist das VU gehalten, sicherzustellen, dass es die notwendige Information über die 10 grössten Aussteller (Schuldner) zeitnah erhält.
A23: Das VU hat hierzu die von der/den Investmentgesellschaft(en) bereit gestellten Schuldnerangaben für die jeweils 10 größter Aussteller (Schuldner) des/der Fonds ausgenommen Zielfonds - mit den größten Schuldnern aus der Direktanlage in geeigneter Weise zusammenzuführen. Forderungen gegenüber den Kontrahenten aus derivativen Finanzgeschäften in Fonds sind in der Liste der 10 größten Schuldner unter der Zeile "davon: alle anderen Anlagen bei diesem Schuldner - § 4 Abs. 1 AnlV" zu berücksichtigen. Dabei brauchen Forderungen gegenüber Kontrahenten aus derivativen Finanzgeschäften nur dann in der Schuldnerliste berücksichtigt werden, wenn der Kontrahent vom Umfang her geeignet ist, eine Position unter den 10 größen Schuldnern einnehmen zu können. Derivate und/oder Finanzinstrumente mit derivativen Komponenten, die nur zu Absichgerungszwecken eingesetzt werden, sind hiervon nicht betroffen.
A24: Zur Erleichterung der Identifikation kann die Emittenten-Nr. oder -LEI bzw. Konzern-Nr. oder -LEI von WM-Datenservice verwendet werden.
